BEGIN:VCALENDAR
VERSION:2.0
PRODID:-//178.77.103.26//NONSGML kigkonsult.se iCalcreator 2.20//
CALSCALE:GREGORIAN
METHOD:PUBLISH
X-WR-TIMEZONE:Europe/Berlin
BEGIN:VEVENT
UID:event32@TT-Kalender.de
DTSTAMP:20260424T184228Z
CATEGORIES:DTTB
DESCRIPTION:1. TSV 2er Mannschaftsturnier Klein-Auheim \nKategorie: DTTB\nI
 CS-Link: https://turnierkalender.up1.de/de/index.php?option=com_jem&view=e
 vent&id=32:1-tsv-2er-mannschaftsturnier-klein-auheim\n
DTSTART;VALUE=DATE:20150614
DTEND;VALUE=DATE:20150615
LOCATION:Hanau Willi-Rehbein-Sporthalle \,Fasaneriestraße \,63456 63456 Han
 au 
SUMMARY:1. TSV 2er Mannschaftsturnier Klein-Auheim 
URL:https://turnierkalender.up1.de/de/index.php?option=com_jem&view=event&i
 d=32:1-tsv-2er-mannschaftsturnier-klein-auheim
END:VEVENT
END:VCALENDAR