BEGIN:VCALENDAR
VERSION:2.0
PRODID:-//178.77.103.26//NONSGML kigkonsult.se iCalcreator 2.20//
CALSCALE:GREGORIAN
METHOD:PUBLISH
X-WR-TIMEZONE:Europe/Berlin
BEGIN:VEVENT
UID:event269@TT-Kalender.de
DTSTAMP:20260425T151115Z
CATEGORIES:Bezirksoffen
DESCRIPTION:Bezirkseinzelmeisterschaften Mitte U11-U19\nKategorie: Bezirkso
 ffen\nICS-Link: https://turnierkalender.up1.de/de/index.php?option=com_jem
 &view=event&id=269:bezirkseinzelmeisterschaften-mitte-nachwuchs\n
DTSTART;VALUE=DATE:20251101
DTEND;VALUE=DATE:20251103
LOCATION:Altenstadt Altenstadthalle\,Vogelsbergstraße 42\,63674 Altenstadt
SUMMARY:Bezirkseinzelmeisterschaften Mitte U11-U19
URL:https://turnierkalender.up1.de/de/index.php?option=com_jem&view=event&i
 d=269:bezirkseinzelmeisterschaften-mitte-nachwuchs
END:VEVENT
END:VCALENDAR