BEGIN:VCALENDAR
VERSION:2.0
PRODID:-//178.77.103.26//NONSGML kigkonsult.se iCalcreator 2.20//
CALSCALE:GREGORIAN
METHOD:PUBLISH
X-WR-TIMEZONE:Europe/Berlin
BEGIN:VEVENT
UID:event266@TT-Kalender.de
DTSTAMP:20260424T184228Z
CATEGORIES:Offen
DESCRIPTION:ORDAT TT Firmencup 2025\nKategorie: Offen\nICS-Link: https://tu
 rnierkalender.up1.de/de/index.php?option=com_jem&view=event&id=266:ordat-t
 t-firmencup\n
DTSTART;VALUE=DATE:20250824
DTEND;VALUE=DATE:20250825
LOCATION:Gießen-Wieseck Großsporthalle\,Philosophenstrasse 26\,35396 35396 
 Gießen
SUMMARY:ORDAT TT Firmencup 2025
URL:https://turnierkalender.up1.de/de/index.php?option=com_jem&view=event&i
 d=266:ordat-tt-firmencup
END:VEVENT
END:VCALENDAR