BEGIN:VCALENDAR
VERSION:2.0
PRODID:-//178.77.103.26//NONSGML kigkonsult.se iCalcreator 2.20//
CALSCALE:GREGORIAN
METHOD:PUBLISH
X-WR-TIMEZONE:Europe/Berlin
BEGIN:VEVENT
UID:event127@TT-Kalender.de
DTSTAMP:20260424T184228Z
CATEGORIES:DTTB+Gäste
DESCRIPTION:22. TT-Cup 2016  4-er Mannschaftsturnier\nKategorie: DTTB+Gäste
 \nICS-Link: https://turnierkalender.up1.de/de/index.php?option=com_jem&vie
 w=event&id=127:22-tt-cup-2016-4-er-mannschaftsturnier\n
DTSTART;VALUE=DATE:20160826
DTEND;VALUE=DATE:20160829
LOCATION:Wrestedt Großsporthalle\,Am Sportzentrum\,29559 29559 Wrestedt
SUMMARY:22. TT-Cup 2016  4-er Mannschaftsturnier
URL:https://turnierkalender.up1.de/de/index.php?option=com_jem&view=event&i
 d=127:22-tt-cup-2016-4-er-mannschaftsturnier
END:VEVENT
END:VCALENDAR