BEGIN:VCALENDAR
VERSION:2.0
PRODID:-//178.77.103.26//NONSGML kigkonsult.se iCalcreator 2.20//
CALSCALE:GREGORIAN
METHOD:PUBLISH
X-WR-TIMEZONE:Europe/Berlin
BEGIN:VEVENT
UID:event125@TT-Kalender.de
DTSTAMP:20260424T120553Z
CATEGORIES:International
DESCRIPTION:29. Internationales Sparkassen TT-Turnier des TTV Mettingen\nKa
 tegorie: International\nICS-Link: https://turnierkalender.up1.de/de/index.
 php?option=com_jem&view=event&id=125:29-internationales-sparkassen-tt-turn
 ier-des-ttv-mettingen\n
DTSTART;VALUE=DATE:20160504
DTEND;VALUE=DATE:20160508
LOCATION:Mettingen Tüöttensporthalle\,Nordstr. 39\,49497 49497 Mettingen
SUMMARY:29. Internationales Sparkassen TT-Turnier des TTV Mettingen
URL:https://turnierkalender.up1.de/de/index.php?option=com_jem&view=event&i
 d=125:29-internationales-sparkassen-tt-turnier-des-ttv-mettingen
END:VEVENT
END:VCALENDAR